BEGIN:VCALENDAR
VERSION:2.0
PRODID:-//Gemeinde Blumenthal (SH) - ECPv6.15.20//NONSGML v1.0//EN
CALSCALE:GREGORIAN
METHOD:PUBLISH
X-WR-CALNAME:Gemeinde Blumenthal (SH)
X-ORIGINAL-URL:https://www.blumenthal-sh.de
X-WR-CALDESC:Veranstaltungen für Gemeinde Blumenthal (SH)
REFRESH-INTERVAL;VALUE=DURATION:PT1H
X-Robots-Tag:noindex
X-PUBLISHED-TTL:PT1H
BEGIN:VTIMEZONE
TZID:Europe/Berlin
BEGIN:DAYLIGHT
TZOFFSETFROM:+0100
TZOFFSETTO:+0200
TZNAME:CEST
DTSTART:20230326T010000
END:DAYLIGHT
BEGIN:STANDARD
TZOFFSETFROM:+0200
TZOFFSETTO:+0100
TZNAME:CET
DTSTART:20231029T010000
END:STANDARD
BEGIN:DAYLIGHT
TZOFFSETFROM:+0100
TZOFFSETTO:+0200
TZNAME:CEST
DTSTART:20240331T010000
END:DAYLIGHT
BEGIN:STANDARD
TZOFFSETFROM:+0200
TZOFFSETTO:+0100
TZNAME:CET
DTSTART:20241027T010000
END:STANDARD
BEGIN:DAYLIGHT
TZOFFSETFROM:+0100
TZOFFSETTO:+0200
TZNAME:CEST
DTSTART:20250330T010000
END:DAYLIGHT
BEGIN:STANDARD
TZOFFSETFROM:+0200
TZOFFSETTO:+0100
TZNAME:CET
DTSTART:20251026T010000
END:STANDARD
END:VTIMEZONE
BEGIN:VEVENT
DTSTART;TZID=Europe/Berlin:20241109T190000
DTEND;TZID=Europe/Berlin:20241109T220000
DTSTAMP:20260422T061117
CREATED:20240131T183849Z
LAST-MODIFIED:20240620T195515Z
UID:3049-1731178800-1731189600@www.blumenthal-sh.de
SUMMARY:Schmelztiegel Konzert
DESCRIPTION:
URL:https://www.blumenthal-sh.de/event/konzert/
LOCATION:DGH\, Dorfstrasse 13a\, Blumenthal\, SH\, 24241\, Germany
END:VEVENT
END:VCALENDAR